BEGIN:VCALENDAR
VERSION:2.0
PRODID:-//Fundación Educativa Santiago Apostol - ECPv6.15.14//NONSGML v1.0//EN
CALSCALE:GREGORIAN
METHOD:PUBLISH
X-WR-CALNAME:Fundación Educativa Santiago Apostol
X-ORIGINAL-URL:https://fesa.edu.co
X-WR-CALDESC:Eventos para Fundación Educativa Santiago Apostol
REFRESH-INTERVAL;VALUE=DURATION:PT1H
X-Robots-Tag:noindex
X-PUBLISHED-TTL:PT1H
BEGIN:VTIMEZONE
TZID:America/Bogota
BEGIN:STANDARD
TZOFFSETFROM:-0500
TZOFFSETTO:-0500
TZNAME:-05
DTSTART:20180101T000000
END:STANDARD
END:VTIMEZONE
BEGIN:VEVENT
DTSTART;VALUE=DATE:20190201
DTEND;VALUE=DATE:20190202
DTSTAMP:20260425T052131
CREATED:20190212T163045Z
LAST-MODIFIED:20190212T163045Z
UID:1454-1548979200-1549065599@fesa.edu.co
SUMMARY:Ingreso de estudiantes nuevos
DESCRIPTION:Ingreso de estudiantes a la instituciòn
URL:https://fesa.edu.co/evento/ingreso-de-estudiantes-nuevos/
CATEGORIES:Nuestra Señora del Rosario
END:VEVENT
END:VCALENDAR