BEGIN:VCALENDAR
VERSION:2.0
PRODID:-//Fundación Educativa Santiago Apostol - ECPv6.15.14//NONSGML v1.0//EN
CALSCALE:GREGORIAN
METHOD:PUBLISH
X-ORIGINAL-URL:https://fesa.edu.co
X-WR-CALDESC:Eventos para Fundación Educativa Santiago Apostol
REFRESH-INTERVAL;VALUE=DURATION:PT1H
X-Robots-Tag:noindex
X-PUBLISHED-TTL:PT1H
BEGIN:VTIMEZONE
TZID:America/Bogota
BEGIN:STANDARD
TZOFFSETFROM:-0500
TZOFFSETTO:-0500
TZNAME:-05
DTSTART:20180101T000000
END:STANDARD
END:VTIMEZONE
BEGIN:VEVENT
DTSTART;VALUE=DATE:20190214
DTEND;VALUE=DATE:20190215
DTSTAMP:20260425T052349
CREATED:20190212T163349Z
LAST-MODIFIED:20190212T163349Z
UID:1458-1550102400-1550188799@fesa.edu.co
SUMMARY:Direccion de curso: Elecciòn de representantes de curso
DESCRIPTION:
URL:https://fesa.edu.co/evento/direccion-de-curso-eleccion-de-representantes-de-curso/
CATEGORIES:Nuestra Señora del Rosario
END:VEVENT
END:VCALENDAR