BEGIN:VCALENDAR
VERSION:2.0
PRODID:-//Fundación Educativa Santiago Apostol - ECPv6.15.14//NONSGML v1.0//EN
CALSCALE:GREGORIAN
METHOD:PUBLISH
X-ORIGINAL-URL:https://fesa.edu.co
X-WR-CALDESC:Eventos para Fundación Educativa Santiago Apostol
REFRESH-INTERVAL;VALUE=DURATION:PT1H
X-Robots-Tag:noindex
X-PUBLISHED-TTL:PT1H
BEGIN:VTIMEZONE
TZID:America/Bogota
BEGIN:STANDARD
TZOFFSETFROM:-0500
TZOFFSETTO:-0500
TZNAME:-05
DTSTART:20180101T000000
END:STANDARD
END:VTIMEZONE
BEGIN:VEVENT
DTSTART;VALUE=DATE:20190201
DTEND;VALUE=DATE:20190202
DTSTAMP:20260424T173555
CREATED:20190212T182808Z
LAST-MODIFIED:20190212T182808Z
UID:1489-1548979200-1549065599@fesa.edu.co
SUMMARY:Ingreso De Estudiantes Nuevos
DESCRIPTION:
URL:https://fesa.edu.co/evento/ingreso-de-estudiantes-nuevos-2/
CATEGORIES:San Andrés
END:VEVENT
BEGIN:VEVENT
DTSTART;VALUE=DATE:20190204
DTEND;VALUE=DATE:20190205
DTSTAMP:20260424T173555
CREATED:20190212T182917Z
LAST-MODIFIED:20190212T182917Z
UID:1491-1549238400-1549324799@fesa.edu.co
SUMMARY:Ingreso De Estudiantes Antiguos.
DESCRIPTION:
URL:https://fesa.edu.co/evento/ingreso-de-estudiantes-antiguos-2/
CATEGORIES:San Andrés
END:VEVENT
BEGIN:VEVENT
DTSTART;VALUE=DATE:20190204
DTEND;VALUE=DATE:20190205
DTSTAMP:20260424T173555
CREATED:20190212T183013Z
LAST-MODIFIED:20190212T183013Z
UID:1493-1549238400-1549324799@fesa.edu.co
SUMMARY:Inicio Primer Periodo Académico
DESCRIPTION:
URL:https://fesa.edu.co/evento/inicio-primer-periodo-academico/
CATEGORIES:San Andrés
END:VEVENT
BEGIN:VEVENT
DTSTART;VALUE=DATE:20190204
DTEND;VALUE=DATE:20190205
DTSTAMP:20260424T173555
CREATED:20190212T183129Z
LAST-MODIFIED:20190212T183129Z
UID:1495-1549238400-1549324799@fesa.edu.co
SUMMARY:Inducción y planeación de los cursos: *Socialización  Manual de Convivencia y SIEP Institucional.
DESCRIPTION:
URL:https://fesa.edu.co/evento/induccion-y-planeacion-de-los-cursos-socializacion-manual-de-convivencia-y-siep-institucional/
CATEGORIES:San Andrés
END:VEVENT
BEGIN:VEVENT
DTSTART;VALUE=DATE:20190206
DTEND;VALUE=DATE:20190207
DTSTAMP:20260424T173555
CREATED:20190212T183338Z
LAST-MODIFIED:20190212T183338Z
UID:1497-1549411200-1549497599@fesa.edu.co
SUMMARY:Eucaristía General.
DESCRIPTION:
URL:https://fesa.edu.co/evento/eucaristia-general/
CATEGORIES:San Andrés
END:VEVENT
BEGIN:VEVENT
DTSTART;VALUE=DATE:20190206
DTEND;VALUE=DATE:20190207
DTSTAMP:20260424T173555
CREATED:20190212T183432Z
LAST-MODIFIED:20190212T183432Z
UID:1499-1549411200-1549497599@fesa.edu.co
SUMMARY:Elección Representantes de curso.
DESCRIPTION:
URL:https://fesa.edu.co/evento/eleccion-representantes-de-curso/
CATEGORIES:San Andrés
END:VEVENT
BEGIN:VEVENT
DTSTART;VALUE=DATE:20190208
DTEND;VALUE=DATE:20190209
DTSTAMP:20260424T173555
CREATED:20190212T183538Z
LAST-MODIFIED:20190212T183538Z
UID:1501-1549584000-1549670399@fesa.edu.co
SUMMARY:Reunión con Representantes de curso
DESCRIPTION:
URL:https://fesa.edu.co/evento/reunion-con-representantes-de-curso/
CATEGORIES:San Andrés
END:VEVENT
BEGIN:VEVENT
DTSTART;VALUE=DATE:20190209
DTEND;VALUE=DATE:20190210
DTSTAMP:20260424T173555
CREATED:20190212T183644Z
LAST-MODIFIED:20190212T183644Z
UID:1503-1549670400-1549756799@fesa.edu.co
SUMMARY:Asamblea general de padres de familia (elección de representantes consejo)
DESCRIPTION:
URL:https://fesa.edu.co/evento/asamblea-general-de-padres-de-familia-eleccion-de-representantes-consejo/
CATEGORIES:San Andrés
END:VEVENT
BEGIN:VEVENT
DTSTART;VALUE=DATE:20190211
DTEND;VALUE=DATE:20190212
DTSTAMP:20260424T173555
CREATED:20190212T183730Z
LAST-MODIFIED:20190212T183730Z
UID:1505-1549843200-1549929599@fesa.edu.co
SUMMARY:Inscripción candidatos a personero estudiantil
DESCRIPTION:
URL:https://fesa.edu.co/evento/inscripcion-candidatos-a-personero-estudiantil/
CATEGORIES:San Andrés
END:VEVENT
BEGIN:VEVENT
DTSTART;VALUE=DATE:20190215
DTEND;VALUE=DATE:20190216
DTSTAMP:20260424T173555
CREATED:20190212T183911Z
LAST-MODIFIED:20190212T183911Z
UID:1507-1550188800-1550275199@fesa.edu.co
SUMMARY:Debate Candidatos a Personería
DESCRIPTION:
URL:https://fesa.edu.co/evento/debate-candidatos-a-personeria/
CATEGORIES:San Andrés
END:VEVENT
BEGIN:VEVENT
DTSTART;VALUE=DATE:20190215
DTEND;VALUE=DATE:20190216
DTSTAMP:20260424T173555
CREATED:20190212T184041Z
LAST-MODIFIED:20190212T184235Z
UID:1509-1550188800-1550275199@fesa.edu.co
SUMMARY:Feria Electoral
DESCRIPTION:
URL:https://fesa.edu.co/evento/feria-electoral/
CATEGORIES:San Andrés
END:VEVENT
BEGIN:VEVENT
DTSTART;VALUE=DATE:20190221
DTEND;VALUE=DATE:20190222
DTSTAMP:20260424T173555
CREATED:20190212T184346Z
LAST-MODIFIED:20190212T184346Z
UID:1511-1550707200-1550793599@fesa.edu.co
SUMMARY:Elección de Personero
DESCRIPTION:
URL:https://fesa.edu.co/evento/eleccion-de-personero/
CATEGORIES:San Andrés
END:VEVENT
BEGIN:VEVENT
DTSTART;VALUE=DATE:20190222
DTEND;VALUE=DATE:20190223
DTSTAMP:20260424T173555
CREATED:20190212T184515Z
LAST-MODIFIED:20190212T184515Z
UID:1513-1550793600-1550879999@fesa.edu.co
SUMMARY:Ceremonia de posesión de gobierno escolar
DESCRIPTION:
URL:https://fesa.edu.co/evento/ceremonia-de-posesion-de-gobierno-escolar/
CATEGORIES:San Andrés
END:VEVENT
BEGIN:VEVENT
DTSTART;VALUE=DATE:20190227
DTEND;VALUE=DATE:20190228
DTSTAMP:20260424T173555
CREATED:20190212T184650Z
LAST-MODIFIED:20190212T184650Z
UID:1515-1551225600-1551311999@fesa.edu.co
SUMMARY:Reunión comité escolar de convivencia
DESCRIPTION:
URL:https://fesa.edu.co/evento/reunion-comite-escolar-de-convivencia/
CATEGORIES:San Andrés
END:VEVENT
BEGIN:VEVENT
DTSTART;VALUE=DATE:20190228
DTEND;VALUE=DATE:20190301
DTSTAMP:20260424T173555
CREATED:20190212T184813Z
LAST-MODIFIED:20190212T184813Z
UID:1517-1551312000-1551398399@fesa.edu.co
SUMMARY:Primer Simulacro Saber 11º
DESCRIPTION:
URL:https://fesa.edu.co/evento/primer-simulacro-saber-11o/
CATEGORIES:San Andrés
END:VEVENT
END:VCALENDAR