BEGIN:VCALENDAR
VERSION:2.0
PRODID:-//Fundación Educativa Santiago Apostol - ECPv6.15.14//NONSGML v1.0//EN
CALSCALE:GREGORIAN
METHOD:PUBLISH
X-ORIGINAL-URL:https://fesa.edu.co
X-WR-CALDESC:Eventos para Fundación Educativa Santiago Apostol
REFRESH-INTERVAL;VALUE=DURATION:PT1H
X-Robots-Tag:noindex
X-PUBLISHED-TTL:PT1H
BEGIN:VTIMEZONE
TZID:America/Bogota
BEGIN:STANDARD
TZOFFSETFROM:-0500
TZOFFSETTO:-0500
TZNAME:-05
DTSTART:20180101T000000
END:STANDARD
END:VTIMEZONE
BEGIN:VEVENT
DTSTART;VALUE=DATE:20190607
DTEND;VALUE=DATE:20190608
DTSTAMP:20260424T155606
CREATED:20190604T132117Z
LAST-MODIFIED:20190604T135421Z
UID:2221-1559865600-1559951999@fesa.edu.co
SUMMARY:ENGLISH DAY
DESCRIPTION:Se recomienda tener muy presente las\nrecomendaciones dadas por cada director\nde curso.\nHora de Salida:\nPrimaria: 12:30 p.m.\nBachillerato: 1:00 p.m
URL:https://fesa.edu.co/evento/english-day/
CATEGORIES:San Andrés
ATTACH;FMTTYPE=image/png:https://fesa.edu.co/wp-content/uploads/2019/06/england.png
END:VEVENT
BEGIN:VEVENT
DTSTART;VALUE=DATE:20190611
DTEND;VALUE=DATE:20190612
DTSTAMP:20260424T155606
CREATED:20190604T140949Z
LAST-MODIFIED:20190604T140949Z
UID:2224-1560211200-1560297599@fesa.edu.co
SUMMARY:Horario de Viernes
DESCRIPTION:Los estudiantes deben asistir con los\ncuadernos y actividades de las clases del\ndía viernes.
URL:https://fesa.edu.co/evento/horario-de-viernes/
CATEGORIES:San Andrés
END:VEVENT
BEGIN:VEVENT
DTSTART;VALUE=DATE:20190613
DTEND;VALUE=DATE:20190614
DTSTAMP:20260424T155606
CREATED:20190604T141125Z
LAST-MODIFIED:20190604T150256Z
UID:2226-1560384000-1560470399@fesa.edu.co
SUMMARY:Convivencia Grados 801° y 802° Casa San Antonio ubicada en la Vereda Cucharal del Municipio de Fusagasugá
DESCRIPTION:HORA DE SALIDA: 6:30 a.m.\nHORA DE REGRESO: 5:00 a 5:30 p.m.\nAgradecemos la puntualidad en recoger a\nsu hijo(a)
URL:https://fesa.edu.co/evento/convivencia-grados-801-y-802-casa-san-antonio-ubicada-en-la-vereda-cucharal-del-municipio-de-fusagasuga/
CATEGORIES:San Andrés
END:VEVENT
BEGIN:VEVENT
DTSTART;VALUE=DATE:20190614
DTEND;VALUE=DATE:20190615
DTSTAMP:20260424T155606
CREATED:20190604T150716Z
LAST-MODIFIED:20190604T150716Z
UID:2228-1560470400-1560556799@fesa.edu.co
SUMMARY:OPEN DAY (Balance Parcial de Notas Segundo Periodo) Serán citados los padres de familia y estudiantes que tengan dificultades en cualquier asignatura.
DESCRIPTION:Escuela Abierta. Los padres de familia\ndeben traer agenda.\nPadres de familia que deseen hablar con\nalgún docente podrán asistir.\nNO HAY CLASE
URL:https://fesa.edu.co/evento/open-day-balance-parcial-de-notas-segundo-periodo-seran-citados-los-padres-de-familia-y-estudiantes-que-tengan-dificultades-en-cualquier-asignatura/
CATEGORIES:San Andrés
END:VEVENT
BEGIN:VEVENT
DTSTART;VALUE=DATE:20190614
DTEND;VALUE=DATE:20190615
DTSTAMP:20260424T155606
CREATED:20190604T150904Z
LAST-MODIFIED:20190604T150904Z
UID:2230-1560470400-1560556799@fesa.edu.co
SUMMARY:SALIDA A RECESO ESCOLAR MITAD DE AÑO
DESCRIPTION:A partir del 14 de junio de 2019.
URL:https://fesa.edu.co/evento/salida-a-receso-escolar-mitad-de-ano/
CATEGORIES:San Andrés
END:VEVENT
BEGIN:VEVENT
DTSTART;VALUE=DATE:20190617
DTEND;VALUE=DATE:20190618
DTSTAMP:20260424T155606
CREATED:20190604T151042Z
LAST-MODIFIED:20190604T151042Z
UID:2232-1560729600-1560815999@fesa.edu.co
SUMMARY:VACACIONES
DESCRIPTION:
URL:https://fesa.edu.co/evento/vacaciones-10/
CATEGORIES:San Andrés
END:VEVENT
BEGIN:VEVENT
DTSTART;VALUE=DATE:20190618
DTEND;VALUE=DATE:20190619
DTSTAMP:20260424T155606
CREATED:20190604T151113Z
LAST-MODIFIED:20190604T151113Z
UID:2234-1560816000-1560902399@fesa.edu.co
SUMMARY:VACACIONES
DESCRIPTION:
URL:https://fesa.edu.co/evento/vacaciones-11/
CATEGORIES:San Andrés
END:VEVENT
BEGIN:VEVENT
DTSTART;VALUE=DATE:20190619
DTEND;VALUE=DATE:20190620
DTSTAMP:20260424T155606
CREATED:20190604T151142Z
LAST-MODIFIED:20190604T151142Z
UID:2236-1560902400-1560988799@fesa.edu.co
SUMMARY:VACACIONES
DESCRIPTION:
URL:https://fesa.edu.co/evento/vacaciones-12/
CATEGORIES:San Andrés
END:VEVENT
BEGIN:VEVENT
DTSTART;VALUE=DATE:20190620
DTEND;VALUE=DATE:20190621
DTSTAMP:20260424T155606
CREATED:20190604T151228Z
LAST-MODIFIED:20190604T151228Z
UID:2238-1560988800-1561075199@fesa.edu.co
SUMMARY:VACACIONES
DESCRIPTION:
URL:https://fesa.edu.co/evento/vacaciones-13/
CATEGORIES:San Andrés
END:VEVENT
BEGIN:VEVENT
DTSTART;VALUE=DATE:20190621
DTEND;VALUE=DATE:20190622
DTSTAMP:20260424T155606
CREATED:20190604T170326Z
LAST-MODIFIED:20190604T170326Z
UID:2240-1561075200-1561161599@fesa.edu.co
SUMMARY:VACACIONES
DESCRIPTION:
URL:https://fesa.edu.co/evento/vacaciones-14/
CATEGORIES:San Andrés
END:VEVENT
BEGIN:VEVENT
DTSTART;VALUE=DATE:20190624
DTEND;VALUE=DATE:20190625
DTSTAMP:20260424T155606
CREATED:20190604T170451Z
LAST-MODIFIED:20190604T170451Z
UID:2242-1561334400-1561420799@fesa.edu.co
SUMMARY:VACACIONES
DESCRIPTION:
URL:https://fesa.edu.co/evento/vacaciones-15/
CATEGORIES:San Andrés
END:VEVENT
BEGIN:VEVENT
DTSTART;VALUE=DATE:20190625
DTEND;VALUE=DATE:20190626
DTSTAMP:20260424T155606
CREATED:20190604T170531Z
LAST-MODIFIED:20190604T170531Z
UID:2244-1561420800-1561507199@fesa.edu.co
SUMMARY:VACACIONES
DESCRIPTION:
URL:https://fesa.edu.co/evento/vacaciones-16/
CATEGORIES:San Andrés
END:VEVENT
BEGIN:VEVENT
DTSTART;VALUE=DATE:20190626
DTEND;VALUE=DATE:20190627
DTSTAMP:20260424T155606
CREATED:20190604T170603Z
LAST-MODIFIED:20190604T170603Z
UID:2246-1561507200-1561593599@fesa.edu.co
SUMMARY:VACACIONES
DESCRIPTION:
URL:https://fesa.edu.co/evento/vacaciones-17/
CATEGORIES:San Andrés
END:VEVENT
BEGIN:VEVENT
DTSTART;VALUE=DATE:20190627
DTEND;VALUE=DATE:20190628
DTSTAMP:20260424T155606
CREATED:20190604T170655Z
LAST-MODIFIED:20190604T170655Z
UID:2248-1561593600-1561679999@fesa.edu.co
SUMMARY:VACACIONES
DESCRIPTION:
URL:https://fesa.edu.co/evento/vacaciones-18/
CATEGORIES:San Andrés
END:VEVENT
BEGIN:VEVENT
DTSTART;VALUE=DATE:20190628
DTEND;VALUE=DATE:20190629
DTSTAMP:20260424T155606
CREATED:20190604T170731Z
LAST-MODIFIED:20190604T170731Z
UID:2250-1561680000-1561766399@fesa.edu.co
SUMMARY:VACACIONES
DESCRIPTION:
URL:https://fesa.edu.co/evento/vacaciones-19/
CATEGORIES:San Andrés
END:VEVENT
END:VCALENDAR