BEGIN:VCALENDAR
VERSION:2.0
PRODID:-//Fundación Educativa Santiago Apostol - ECPv6.15.14//NONSGML v1.0//EN
CALSCALE:GREGORIAN
METHOD:PUBLISH
X-WR-CALNAME:Fundación Educativa Santiago Apostol
X-ORIGINAL-URL:https://fesa.edu.co
X-WR-CALDESC:Eventos para Fundación Educativa Santiago Apostol
REFRESH-INTERVAL;VALUE=DURATION:PT1H
X-Robots-Tag:noindex
X-PUBLISHED-TTL:PT1H
BEGIN:VTIMEZONE
TZID:America/Bogota
BEGIN:STANDARD
TZOFFSETFROM:-0500
TZOFFSETTO:-0500
TZNAME:-05
DTSTART:20180101T000000
END:STANDARD
END:VTIMEZONE
BEGIN:VEVENT
DTSTART;VALUE=DATE:20190204
DTEND;VALUE=DATE:20190205
DTSTAMP:20260424T193052
CREATED:20190212T182917Z
LAST-MODIFIED:20190212T182917Z
UID:1491-1549238400-1549324799@fesa.edu.co
SUMMARY:Ingreso De Estudiantes Antiguos.
DESCRIPTION:
URL:https://fesa.edu.co/evento/ingreso-de-estudiantes-antiguos-2/
CATEGORIES:San Andrés
END:VEVENT
BEGIN:VEVENT
DTSTART;VALUE=DATE:20190204
DTEND;VALUE=DATE:20190205
DTSTAMP:20260424T193052
CREATED:20190212T183013Z
LAST-MODIFIED:20190212T183013Z
UID:1493-1549238400-1549324799@fesa.edu.co
SUMMARY:Inicio Primer Periodo Académico
DESCRIPTION:
URL:https://fesa.edu.co/evento/inicio-primer-periodo-academico/
CATEGORIES:San Andrés
END:VEVENT
BEGIN:VEVENT
DTSTART;VALUE=DATE:20190204
DTEND;VALUE=DATE:20190205
DTSTAMP:20260424T193052
CREATED:20190212T183129Z
LAST-MODIFIED:20190212T183129Z
UID:1495-1549238400-1549324799@fesa.edu.co
SUMMARY:Inducción y planeación de los cursos: *Socialización  Manual de Convivencia y SIEP Institucional.
DESCRIPTION:
URL:https://fesa.edu.co/evento/induccion-y-planeacion-de-los-cursos-socializacion-manual-de-convivencia-y-siep-institucional/
CATEGORIES:San Andrés
END:VEVENT
END:VCALENDAR