BEGIN:VCALENDAR
VERSION:2.0
PRODID:-//Fundación Educativa Santiago Apostol - ECPv6.15.14//NONSGML v1.0//EN
CALSCALE:GREGORIAN
METHOD:PUBLISH
X-WR-CALNAME:Fundación Educativa Santiago Apostol
X-ORIGINAL-URL:https://fesa.edu.co
X-WR-CALDESC:Eventos para Fundación Educativa Santiago Apostol
REFRESH-INTERVAL;VALUE=DURATION:PT1H
X-Robots-Tag:noindex
X-PUBLISHED-TTL:PT1H
BEGIN:VTIMEZONE
TZID:America/Bogota
BEGIN:STANDARD
TZOFFSETFROM:-0500
TZOFFSETTO:-0500
TZNAME:-05
DTSTART:20180101T000000
END:STANDARD
END:VTIMEZONE
BEGIN:VEVENT
DTSTART;VALUE=DATE:20190708
DTEND;VALUE=DATE:20190709
DTSTAMP:20260424T155822
CREATED:20190604T172222Z
LAST-MODIFIED:20190604T172222Z
UID:2265-1562544000-1562630399@fesa.edu.co
SUMMARY:VACACIONES
DESCRIPTION:
URL:https://fesa.edu.co/evento/vacaciones-25/
CATEGORIES:San Andrés
END:VEVENT
BEGIN:VEVENT
DTSTART;VALUE=DATE:20190709
DTEND;VALUE=DATE:20190710
DTSTAMP:20260424T155822
CREATED:20190604T171300Z
LAST-MODIFIED:20190604T171300Z
UID:2252-1562630400-1562716799@fesa.edu.co
SUMMARY:INGRESO ESTUDIANTES
DESCRIPTION:Hora: Ingreso y salida Normal.
URL:https://fesa.edu.co/evento/ingreso-estudiantes/
CATEGORIES:San Andrés
END:VEVENT
BEGIN:VEVENT
DTSTART;VALUE=DATE:20190709
DTEND;VALUE=DATE:20190710
DTSTAMP:20260424T155822
CREATED:20190604T184553Z
LAST-MODIFIED:20190604T184553Z
UID:2281-1562630400-1562716799@fesa.edu.co
SUMMARY:Regreso de vacaciones estudiantes
DESCRIPTION:
URL:https://fesa.edu.co/evento/regreso-de-vacaciones-estudiantes/
CATEGORIES:San Andrés
END:VEVENT
BEGIN:VEVENT
DTSTART;VALUE=DATE:20190712
DTEND;VALUE=DATE:20190713
DTSTAMP:20260424T155822
CREATED:20190604T172516Z
LAST-MODIFIED:20190604T172516Z
UID:2267-1562889600-1562975999@fesa.edu.co
SUMMARY:Convivencia Grado 401° Casa San Antonio ubicada en la Vereda Cucharal del Municipio de Fusagasugá
DESCRIPTION:HORA DE SALIDA: 6:30 a.m.\nHORA DE REGRESO: 5:00 a 5:30 p.m.\nAgradecemos la puntualidad en recoger a\nsu hijo(a)
URL:https://fesa.edu.co/evento/convivencia-grado-401-casa-san-antonio-ubicada-en-la-vereda-cucharal-del-municipio-de-fusagasuga/
CATEGORIES:San Andrés
END:VEVENT
BEGIN:VEVENT
DTSTART;VALUE=DATE:20190715
DTEND;VALUE=DATE:20190716
DTSTAMP:20260424T155822
CREATED:20190604T172633Z
LAST-MODIFIED:20190604T172633Z
UID:2269-1563148800-1563235199@fesa.edu.co
SUMMARY:JORNADA PEDAGÓGICA
DESCRIPTION:Hora de Salida:\nPrimaria: 12:30 p.m.\nBachillerato: 1:00 p.m
URL:https://fesa.edu.co/evento/jornada-pedagogica/
CATEGORIES:San Andrés
END:VEVENT
BEGIN:VEVENT
DTSTART;VALUE=DATE:20190716
DTEND;VALUE=DATE:20190717
DTSTAMP:20260424T155822
CREATED:20190604T183541Z
LAST-MODIFIED:20190604T183541Z
UID:2271-1563235200-1563321599@fesa.edu.co
SUMMARY:Martes de prueba.
DESCRIPTION:Horario Normal.\nLos estudiantes deben traer Lápiz N.2\,\nBorrador y Tajalápiz.
URL:https://fesa.edu.co/evento/martes-de-prueba/
CATEGORIES:San Andrés
END:VEVENT
BEGIN:VEVENT
DTSTART;VALUE=DATE:20190719
DTEND;VALUE=DATE:20190720
DTSTAMP:20260424T155822
CREATED:20190604T183647Z
LAST-MODIFIED:20190604T183647Z
UID:2273-1563494400-1563580799@fesa.edu.co
SUMMARY:Convivencia Grados 701° Y 702° Casa San Antonio ubicada en la Vereda Cucharal del Municipio de Fusagasugá
DESCRIPTION:HORA DE SALIDA: 6:30 a.m.\nHORA DE REGRESO: 5:00 a 5:30 p.m.\nAgradecemos la puntualidad en recoger a\nsu hijo(a).
URL:https://fesa.edu.co/evento/convivencia-grados-701-y-702-casa-san-antonio-ubicada-en-la-vereda-cucharal-del-municipio-de-fusagasuga/
CATEGORIES:San Andrés
END:VEVENT
BEGIN:VEVENT
DTSTART;VALUE=DATE:20190726
DTEND;VALUE=DATE:20190727
DTSTAMP:20260424T155822
CREATED:20190604T183801Z
LAST-MODIFIED:20190604T183801Z
UID:2275-1564099200-1564185599@fesa.edu.co
SUMMARY:Convivencia Grado 501. Casa San Antonio ubicada en la Vereda Cucharal del Municipio de Fusagasugá.
DESCRIPTION:HORA DE SALIDA: 6:30 a.m.\nHORA DE REGRESO: 5:00 a 5:30 p.m.\nAgradecemos la puntualidad en recoger a\nsu hijo(a).
URL:https://fesa.edu.co/evento/convivencia-grado-501-casa-san-antonio-ubicada-en-la-vereda-cucharal-del-municipio-de-fusagasuga/
CATEGORIES:San Andrés
END:VEVENT
BEGIN:VEVENT
DTSTART;VALUE=DATE:20190731
DTEND;VALUE=DATE:20190801
DTSTAMP:20260424T155822
CREATED:20190604T183918Z
LAST-MODIFIED:20190604T183918Z
UID:2277-1564531200-1564617599@fesa.edu.co
SUMMARY:Día de la ciencia y la tecnología.
DESCRIPTION:Hora: Ingreso y salida Normal.
URL:https://fesa.edu.co/evento/dia-de-la-ciencia-y-la-tecnologia/
CATEGORIES:San Andrés
END:VEVENT
END:VCALENDAR